BEGIN:VCALENDAR
VERSION:2.0
CALSCALE:GREGORIAN
PRODID:adamgibbons/ics
METHOD:PUBLISH
X-PUBLISHED-TTL:PT1H
BEGIN:VEVENT
UID:69e60e2c7e4c620fcaaaf31b
SUMMARY:Ultimate Bodyweight Bootcamp 👊
DTSTAMP:20260420T135500Z
DTSTART:20260601T123000
DESCRIPTION:Meet at the bandstand and some water!
URL:https://bua.fit/class/09nZVtSZLnAG
GEO:51.45799989999999;-0.1493072
LOCATION:Clapham Common Bandstand\\\, London\\\, SW4 9DE
CATEGORIES:Bodyweight
ORGANIZER;CN=Bua Fit:mailto:info@buafit.com
DURATION:PT60M
END:VEVENT
END:VCALENDAR
