BEGIN:VCALENDAR
VERSION:2.0
CALSCALE:GREGORIAN
PRODID:adamgibbons/ics
METHOD:PUBLISH
X-PUBLISHED-TTL:PT1H
BEGIN:VEVENT
UID:69ec70f0ddac0247f096053b
SUMMARY:Saturday's HIIT Blaster 
DTSTAMP:20260420T135500Z
DTSTART:20260606T084500
DESCRIPTION:Via Zoom\nAny injuries please direct message me before the clas
	s
URL:https://bua.fit/class/0WAfvQWy1bLX
LOCATION:Online
CATEGORIES:HIIT
ORGANIZER;CN=Bua Fit:mailto:info@buafit.com
DURATION:PT40M
END:VEVENT
END:VCALENDAR
