BEGIN:VCALENDAR
VERSION:2.0
CALSCALE:GREGORIAN
PRODID:adamgibbons/ics
METHOD:PUBLISH
X-PUBLISHED-TTL:PT1H
BEGIN:VEVENT
UID:69e774c544812208dbc41c52
SUMMARY:BUA Barre: Sculpt\, Tone\, and Empower 🩰💪
DTSTAMP:20260420T135500Z
DTSTART:20260602T140000
DESCRIPTION:A wall\, ledge or area to lean on is key for this class in a pr
	ivate location. If outdoors\, we can sort the venue close by.
URL:https://bua.fit/class/0rHUDzTrLRic
GEO:51.5073509;-0.1277583
LOCATION:London
CATEGORIES:Barre
ORGANIZER;CN=Bua Fit:mailto:info@buafit.com
DURATION:PT50M
END:VEVENT
END:VCALENDAR
