BEGIN:VCALENDAR
VERSION:2.0
CALSCALE:GREGORIAN
PRODID:adamgibbons/ics
METHOD:PUBLISH
X-PUBLISHED-TTL:PT1H
BEGIN:VEVENT
UID:69ea02ad6baf3601f037fe9f
SUMMARY:Harder\, Better\, Faster\, Stronger :: HIIT IT!
DTSTAMP:20260420T135500Z
DTSTART:20260604T123000
DESCRIPTION:Meet at the pin on London Way
URL:https://bua.fit/class/1DziManXspZ3
GEO:51.54561807447851;-0.017989364031991695
LOCATION:Queen Elizabeth Olympic Park\\\, London
CATEGORIES:HIIT
ORGANIZER;CN=Bua Fit:mailto:info@buafit.com
DURATION:PT60M
END:VEVENT
END:VCALENDAR
