BEGIN:VCALENDAR
VERSION:2.0
CALSCALE:GREGORIAN
PRODID:adamgibbons/ics
METHOD:PUBLISH
X-PUBLISHED-TTL:PT1H
BEGIN:VEVENT
UID:69e715d95b088a7038d17052
SUMMARY:Full Body Strength Express
DTSTAMP:20260420T135500Z
DTSTART:20260602T071500
DESCRIPTION:A Full body workout expect a combination of some bodyweight exe
	rcises along with strength training.\nA set of dumbbells and a mat require
	d.\nNo one class is the same!
URL:https://bua.fit/class/1LBJ5jatfm4z
LOCATION:Online
CATEGORIES:Bodyweight,Functional Training
ORGANIZER;CN=Bua Fit:mailto:info@buafit.com
DURATION:PT30M
END:VEVENT
END:VCALENDAR
