BEGIN:VCALENDAR
VERSION:2.0
CALSCALE:GREGORIAN
PRODID:adamgibbons/ics
METHOD:PUBLISH
X-PUBLISHED-TTL:PT1H
BEGIN:VEVENT
UID:69e87ff5a7fc5e6bd120fc73
SUMMARY:Resilience and Stress Management
DTSTAMP:20260420T135500Z
DTSTART:20260603T090000
DESCRIPTION:This workshop will equip participants with tools to manage stre
	ss and build resilience by reframing challenges through the lens of positi
	ve intelligence. \nThey will identify personal and team stress triggers\, 
	learn reframing techniques into help transform stressful situations into o
	pportunities of growth and engage in personalised feedback on handling hig
	h-pressure scenarios using specific techniques.\nThis workshop aims to mai
	ntain composure under pressure\, leading to a more resilient workforce.\n
URL:https://bua.fit/class/1PrIyMmxtUC9
GEO:51.5073509;-0.1277583
LOCATION:London
CATEGORIES:Mentoring & Coaching 
ORGANIZER;CN=Bua Fit:mailto:info@buafit.com
DURATION:PT60M
END:VEVENT
END:VCALENDAR
