BEGIN:VCALENDAR
VERSION:2.0
CALSCALE:GREGORIAN
PRODID:adamgibbons/ics
METHOD:PUBLISH
X-PUBLISHED-TTL:PT1H
BEGIN:VEVENT
UID:69df2955c5f369634bea3a60
SUMMARY:Sunrise Yoga
DTSTAMP:20260408T175800Z
DTSTART:20260527T070000
DESCRIPTION:Bring water and a mat if possible.
URL:https://bua.fit/class/1kdJlqOGLN47
GEO:51.5091318;-0.1507049
LOCATION:Mount Street Gardens\\\, Mayfair\\\, W1K 2TH
CATEGORIES:Yoga
ORGANIZER;CN=Bua Fit:mailto:info@buafit.com
DURATION:PT60M
END:VEVENT
END:VCALENDAR
