BEGIN:VCALENDAR
VERSION:2.0
CALSCALE:GREGORIAN
PRODID:adamgibbons/ics
METHOD:PUBLISH
X-PUBLISHED-TTL:PT1H
BEGIN:VEVENT
UID:69e758a5dae815057ddea80b
SUMMARY:Bodyweight Bootcamp 👊
DTSTAMP:20260420T135500Z
DTSTART:20260602T120000
DESCRIPTION:Bring water. 💪
URL:https://bua.fit/class/26z3HkexzwBs
GEO:51.509060001808386;-0.08355648465576015
LOCATION:Old Billingsgate Walk\\\, London
CATEGORIES:Bootcamp
ORGANIZER;CN=Bua Fit:mailto:info@buafit.com
DURATION:PT45M
END:VEVENT
END:VCALENDAR
