BEGIN:VCALENDAR
VERSION:2.0
CALSCALE:GREGORIAN
PRODID:adamgibbons/ics
METHOD:PUBLISH
X-PUBLISHED-TTL:PT1H
BEGIN:VEVENT
UID:69e72e76cacb35578a4578b9
SUMMARY:Power Yoga: Strength\, Sweat\, and Empowerment 💥🧘‍♂️
DTSTAMP:20260420T135500Z
DTSTART:20260602T090000
DESCRIPTION:Please bring a mat\, ideally.\n\nAll our yoga instructors have 
	5-30 years experience and most are qualified in India.
URL:https://bua.fit/class/272riVOn9WQf
GEO:51.5073509;-0.1277583
LOCATION:London
CATEGORIES:Yoga
ORGANIZER;CN=Bua Fit:mailto:info@buafit.com
DURATION:PT60M
END:VEVENT
END:VCALENDAR
