BEGIN:VCALENDAR
VERSION:2.0
CALSCALE:GREGORIAN
PRODID:adamgibbons/ics
METHOD:PUBLISH
X-PUBLISHED-TTL:PT1H
BEGIN:VEVENT
UID:69b569d407224b465458fae5
SUMMARY:Banging Box HIIT Fix  🎯
DTSTAMP:20260420T135500Z
DTSTART:20260425T140000
DESCRIPTION:Meet by the gate and bring water💦🥊
URL:https://bua.fit/class/2FN439pg27aS
GEO:51.5502957769092;-0.10124261691893732
LOCATION:Highbury Fields\\\, Highbury East\\\, N5 1AR
CATEGORIES:Boxing
ORGANIZER;CN=Bua Fit:mailto:info@buafit.com
DURATION:PT60M
END:VEVENT
END:VCALENDAR
