BEGIN:VCALENDAR
VERSION:2.0
CALSCALE:GREGORIAN
PRODID:adamgibbons/ics
METHOD:PUBLISH
X-PUBLISHED-TTL:PT1H
BEGIN:VEVENT
UID:69e60e2c6ed6e2368a56f436
SUMMARY:BUA Yoga:Vinyasa 🌿🤸🏼‍♂️
DTSTAMP:20260420T135500Z
DTSTART:20260601T123000
DESCRIPTION:\nBring a mat and a smile 😀\n\nMeet at the red pin 📍by the te
	nnis courts. 
URL:https://bua.fit/class/2lvkr2H1e53o
GEO:51.56247733029801;-0.08655103796168406
LOCATION:Clissold Park\\\, London\\\, N16 9HJ
CATEGORIES:Yoga
ORGANIZER;CN=Bua Fit:mailto:info@buafit.com
DURATION:PT60M
END:VEVENT
END:VCALENDAR
