BEGIN:VCALENDAR
VERSION:2.0
CALSCALE:GREGORIAN
PRODID:adamgibbons/ics
METHOD:PUBLISH
X-PUBLISHED-TTL:PT1H
BEGIN:VEVENT
UID:69eb14e567996e1a06bd8d56
SUMMARY:Calorie Crusher 🔥: Online Bootcamp 😅
DTSTAMP:20260420T135500Z
DTSTART:20260605T080000
DESCRIPTION:Meet online 😃
URL:https://bua.fit/class/2miYVNuVxnDt
LOCATION:Online
CATEGORIES:HIIT
ORGANIZER;CN=Bua Fit:mailto:info@buafit.com
DURATION:PT45M
END:VEVENT
END:VCALENDAR
