BEGIN:VCALENDAR
VERSION:2.0
CALSCALE:GREGORIAN
PRODID:adamgibbons/ics
METHOD:PUBLISH
X-PUBLISHED-TTL:PT1H
BEGIN:VEVENT
UID:69e863d4d150db3174e3f57f
SUMMARY:Calorie Crusher: London's Toughest Outdoor Bootcamp 😅🌍
DTSTAMP:20260420T135500Z
DTSTART:20260603T070000
DESCRIPTION:Meet by the gate and dont forget your water💦!
URL:https://bua.fit/class/3INlbgRCghVO
GEO:51.55033580579712;-0.1010709555419842
LOCATION:Highbury Fields\\\, Highbury East\\\, N5 1AR
CATEGORIES:Bootcamp
ORGANIZER;CN=Bua Fit:mailto:info@buafit.com
DURATION:PT60M
END:VEVENT
END:VCALENDAR
