BEGIN:VCALENDAR
VERSION:2.0
CALSCALE:GREGORIAN
PRODID:adamgibbons/ics
METHOD:PUBLISH
X-PUBLISHED-TTL:PT1H
BEGIN:VEVENT
UID:69e8b12c45a18375476abb32
SUMMARY:💣 War On Your Core 💣
DTSTAMP:20260420T135500Z
DTSTART:20260603T123000
DESCRIPTION:A fit fest of abs training. Midsection MAYHEM.\n\nDesigned to g
	et your stomach back into battle mode. A strong core stabilizes the body a
	nd reduces neck and back pain. It is one area of our bodies that can blitz
	 or skyrocket self-confidence. Sign up for 6 weeks and you'll see the diff
	erence 👀👀
URL:https://bua.fit/class/3MkbnOS2Ctu2
GEO:51.50844816904243;-0.08393199391784512
LOCATION:Old Billingsgate Walk\\\, Billingsgate
CATEGORIES:Body Shape
ORGANIZER;CN=Bua Fit:mailto:info@buafit.com
DURATION:PT60M
END:VEVENT
END:VCALENDAR
