BEGIN:VCALENDAR
VERSION:2.0
CALSCALE:GREGORIAN
PRODID:adamgibbons/ics
METHOD:PUBLISH
X-PUBLISHED-TTL:PT1H
BEGIN:VEVENT
UID:69ec74743e5b153e2bd96d08
SUMMARY:Ultimate Bodyweight Bootcamp 👊
DTSTAMP:20260420T135500Z
DTSTART:20260606T090000
DESCRIPTION:Meet at the Rookery
URL:https://bua.fit/class/4fpyIK4SxdTI
GEO:51.42145999999999;-0.12085
LOCATION:Streatham Common\\\, Streatham South\\\, SW16 3BX
CATEGORIES:Bodyweight
ORGANIZER;CN=Bua Fit:mailto:info@buafit.com
DURATION:PT60M
END:VEVENT
END:VCALENDAR
