BEGIN:VCALENDAR
VERSION:2.0
CALSCALE:GREGORIAN
PRODID:adamgibbons/ics
METHOD:PUBLISH
X-PUBLISHED-TTL:PT1H
BEGIN:VEVENT
UID:69e7195c5495f26121f28f06
SUMMARY:Booty Burn Bootcamp 🍑
DTSTAMP:20260420T135500Z
DTSTART:20260602T073000
DESCRIPTION:Meet by the gate and bring water 💦
URL:https://bua.fit/class/5zhxNuksxfaA
GEO:51.55026909096434;-0.10100658252562678
LOCATION:Highbury Fields\\\, Highbury East\\\, N5 1AR
CATEGORIES:Bootcamp
ORGANIZER;CN=Bua Fit:mailto:info@buafit.com
DURATION:PT60M
END:VEVENT
END:VCALENDAR
