BEGIN:VCALENDAR
VERSION:2.0
CALSCALE:GREGORIAN
PRODID:adamgibbons/ics
METHOD:PUBLISH
X-PUBLISHED-TTL:PT1H
BEGIN:VEVENT
UID:69e9fba49b1b6c165a6178da
SUMMARY:Banging Box HIIT Fix  🎯
DTSTAMP:20260420T135500Z
DTSTART:20260604T120000
DESCRIPTION:Bring your A game 🥊😀
URL:https://bua.fit/class/664MPhGbCt2z
LOCATION:Online
CATEGORIES:HIIT,Boxing
ORGANIZER;CN=Bua Fit:mailto:info@buafit.com
DURATION:PT45M
END:VEVENT
END:VCALENDAR
