BEGIN:VCALENDAR
VERSION:2.0
CALSCALE:GREGORIAN
PRODID:adamgibbons/ics
METHOD:PUBLISH
X-PUBLISHED-TTL:PT1H
BEGIN:VEVENT
UID:69b67504fb642b58db1d66e9
SUMMARY:Tai Chi Workshop: Move with Grace\, Find Your Balance 🌿🕊️
DTSTAMP:20260420T135500Z
DTSTART:20260426T090000
DESCRIPTION:Meet on roof 
URL:https://bua.fit/class/67GtalUlOHCL
GEO:51.5073509;-0.1277583
LOCATION:London
CATEGORIES:Flexibility
ORGANIZER;CN=Bua Fit:mailto:info@buafit.com
DURATION:PT60M
END:VEVENT
END:VCALENDAR
