BEGIN:VCALENDAR
VERSION:2.0
CALSCALE:GREGORIAN
PRODID:adamgibbons/ics
METHOD:PUBLISH
X-PUBLISHED-TTL:PT1H
BEGIN:VEVENT
UID:69ea02aeb53e974ea6e487d4
SUMMARY:The Circuit Circus 🏃🏼🏃🏼‍♀‍
DTSTAMP:20260420T135500Z
DTSTART:20260604T123000
DESCRIPTION:Meet at the bandstand
URL:https://bua.fit/class/6QE2hjZXLfwP
GEO:51.4586117;-0.1493462
LOCATION:Clapham Common\\\, London\\\, SW4 9DE
CATEGORIES:Bodyweight
ORGANIZER;CN=Bua Fit:mailto:info@buafit.com
DURATION:PT60M
END:VEVENT
END:VCALENDAR
