BEGIN:VCALENDAR
VERSION:2.0
CALSCALE:GREGORIAN
PRODID:adamgibbons/ics
METHOD:PUBLISH
X-PUBLISHED-TTL:PT1H
BEGIN:VEVENT
UID:69e8fe84337f0943bf75ad96
SUMMARY:Ultimate Bodyweight Bootcamp 🎯
DTSTAMP:20260420T135500Z
DTSTART:20260603T180000
DESCRIPTION:Meet by the Skate Park
URL:https://bua.fit/class/6XgCm2DtTtEH
GEO:51.46099146984548;-0.14320930577393032
LOCATION:Clapham Common\\\, London\\\, SW4 9DE
CATEGORIES:HIIT
ORGANIZER;CN=Bua Fit:mailto:info@buafit.com
DURATION:PT60M
END:VEVENT
END:VCALENDAR
