BEGIN:VCALENDAR
VERSION:2.0
CALSCALE:GREGORIAN
PRODID:adamgibbons/ics
METHOD:PUBLISH
X-PUBLISHED-TTL:PT1H
BEGIN:VEVENT
UID:69ea02acc55454749bcb765b
SUMMARY:Hackney Bua Boxing 🥊
DTSTAMP:20260420T135500Z
DTSTART:20260604T123000
DESCRIPTION:Meet at the bandstand as denoted by the pin. If you have gloves
	 and a mouth shield please bring. Grab some water too.
URL:https://bua.fit/class/6u0kdiwQSJtj
GEO:51.53614764123159;-0.03906855952453325
LOCATION:Victoria Park\\\, London\\\, E3 5TB
CATEGORIES:Boxing
ORGANIZER;CN=Bua Fit:mailto:info@buafit.com
DURATION:PT60M
END:VEVENT
END:VCALENDAR
