BEGIN:VCALENDAR
VERSION:2.0
CALSCALE:GREGORIAN
PRODID:adamgibbons/ics
METHOD:PUBLISH
X-PUBLISHED-TTL:PT1H
BEGIN:VEVENT
UID:69e499845951282b43dd300c
SUMMARY:Circuit Circus 🏃🏼🎪🏃🏼
DTSTAMP:20260408T175800Z
DTSTART:20260531T100000
DESCRIPTION:Meet at the Lido 
URL:https://bua.fit/class/7FXOV4av5Gfn
GEO:51.5422817;-0.06146169999999999
LOCATION:London Fields Lido\\\, Hackney\\\, E8 3EU
CATEGORIES:Bodyweight
ORGANIZER;CN=Bua Fit:mailto:info@buafit.com
DURATION:PT60M
END:VEVENT
END:VCALENDAR
