BEGIN:VCALENDAR
VERSION:2.0
CALSCALE:GREGORIAN
PRODID:adamgibbons/ics
METHOD:PUBLISH
X-PUBLISHED-TTL:PT1H
BEGIN:VEVENT
UID:69e8c645a126f96b3addf8eb
SUMMARY:Silent Fitness Disco: Dance\, Connect\, and Sweat in Silence! 🎧💃
DTSTAMP:20260420T135500Z
DTSTART:20260603T140000
DESCRIPTION:Headsets will be provided.
URL:https://bua.fit/class/7WmdltmNtgfi
GEO:51.5073509;-0.1277583
LOCATION:London
CATEGORIES:Silent Disco
ORGANIZER;CN=Bua Fit:mailto:info@buafit.com
DURATION:PT60M
END:VEVENT
END:VCALENDAR
