BEGIN:VCALENDAR
VERSION:2.0
CALSCALE:GREGORIAN
PRODID:adamgibbons/ics
METHOD:PUBLISH
X-PUBLISHED-TTL:PT1H
BEGIN:VEVENT
UID:69eaffcd5def64494896c807
SUMMARY:Calorie Crusher: London's Toughest Outdoor Bootcamp 😅🌍
DTSTAMP:20260420T135500Z
DTSTART:20260605T063000
DESCRIPTION:Set on the banks of the Thames\, this beautiful public terrace 
	overlooking the city is just 3 mins walk from Monument tube station\, with
	 London Bridge station just 0.4 miles away across the bridge.\n\nGo to the
	 pin and once you see the stairs with the sign stating 'public terrace riv
	er views'\, go up! The terrace is located at Saint Magnus House\, 3 Lower 
	Thames St\, Bridge\, London EC3R 6HE (51°30'31.3"N 0°05'09.3"W).
URL:https://bua.fit/class/7YkaDLxUj0oC
GEO:51.508766925817724;-0.08638026665648724
LOCATION:London Bridge\\\, London\\\, SE1 9RA
CATEGORIES:Bootcamp,HIIT
ORGANIZER;CN=Bua Fit:mailto:info@buafit.com
DURATION:PT60M
END:VEVENT
END:VCALENDAR
