BEGIN:VCALENDAR
VERSION:2.0
CALSCALE:GREGORIAN
PRODID:adamgibbons/ics
METHOD:PUBLISH
X-PUBLISHED-TTL:PT1H
BEGIN:VEVENT
UID:69b585f5cd87cd1b19a38126
SUMMARY:Badass Bua Boxing 🥊
DTSTAMP:20260420T135500Z
DTSTART:20260425T160000
DESCRIPTION:Meet at the car park
URL:https://bua.fit/class/7cQFj0zKSOSY
GEO:51.4330024;-0.1442391
LOCATION:Tooting Common Lake\\\, London\\\, SW16 1RT
CATEGORIES:Boxing
ORGANIZER;CN=Bua Fit:mailto:info@buafit.com
DURATION:PT60M
END:VEVENT
END:VCALENDAR
