BEGIN:VCALENDAR
VERSION:2.0
CALSCALE:GREGORIAN
PRODID:adamgibbons/ics
METHOD:PUBLISH
X-PUBLISHED-TTL:PT1H
BEGIN:VEVENT
UID:69b6a63c7d52327ee037bb8e
SUMMARY:Calorie Crusher 🔥: Bamboo Bootcamp 😅
DTSTAMP:20260420T135500Z
DTSTART:20260426T123000
DESCRIPTION:Meet in the centre of the garden.🌿\nBring water and a big smil
	e.😃
URL:https://bua.fit/class/7oCzo12mFhTm
GEO:51.5131903;-0.0966108
LOCATION:Festival Gardens\\\, London\\\, EC4M 8AD
CATEGORIES:HIIT
ORGANIZER;CN=Bua Fit:mailto:info@buafit.com
DURATION:PT60M
END:VEVENT
END:VCALENDAR
