BEGIN:VCALENDAR
VERSION:2.0
CALSCALE:GREGORIAN
PRODID:adamgibbons/ics
METHOD:PUBLISH
X-PUBLISHED-TTL:PT1H
BEGIN:VEVENT
UID:69b69f347dbdb25022f09478
SUMMARY:The Circuit Circus 🏃🏼💪
DTSTAMP:20260420T135500Z
DTSTART:20260426T120000
DESCRIPTION:It’s time to smash it💥\n\nMeet at the pin and bring water 🤝
URL:https://bua.fit/class/89bt2nYAIZTj
GEO:51.513030053534536;-0.09678246137696078
LOCATION:Festival Gardens\\\, London\\\, EC4M 8AD
CATEGORIES:Bootcamp,HIIT
ORGANIZER;CN=Bua Fit:mailto:info@buafit.com
DURATION:PT60M
END:VEVENT
END:VCALENDAR
