BEGIN:VCALENDAR
VERSION:2.0
CALSCALE:GREGORIAN
PRODID:adamgibbons/ics
METHOD:PUBLISH
X-PUBLISHED-TTL:PT1H
BEGIN:VEVENT
UID:69db5f3af2be497502a7987d
SUMMARY:My Test Class WOJ
DTSTAMP:20260420T135500Z
DTSTART:20260524T100000
DESCRIPTION:My Test Class WOJ
URL:https://bua.fit/class/8nS3zPEnkiUP
LOCATION:Online
CATEGORIES:Boxing
ORGANIZER;CN=Bua Fit:mailto:info@buafit.com
DURATION:PT50M
END:VEVENT
END:VCALENDAR
