BEGIN:VCALENDAR
VERSION:2.0
CALSCALE:GREGORIAN
PRODID:adamgibbons/ics
METHOD:PUBLISH
X-PUBLISHED-TTL:PT1H
BEGIN:VEVENT
UID:69e5dcf54e838f1e5c43a335
SUMMARY:📈 Vision Board Seminar for Sales Teams 🎯✨
DTSTAMP:20260408T175800Z
DTSTART:20260601T090000
DESCRIPTION:Boost motivation and focus with this creative seminar designed 
	to help sales teams set clear goals and visualise success. Through vision 
	board creation and mindset strategies\, your team will leave inspired\, al
	igned\, and ready to crush their targets! 🚀💼✨
URL:https://bua.fit/class/8vho7rtCRyNC
GEO:51.5073509;-0.1277583
LOCATION:London
CATEGORIES:Educational Wellness
ORGANIZER;CN=Bua Fit:mailto:info@buafit.com
DURATION:PT50M
END:VEVENT
END:VCALENDAR
