BEGIN:VCALENDAR
VERSION:2.0
CALSCALE:GREGORIAN
PRODID:adamgibbons/ics
METHOD:PUBLISH
X-PUBLISHED-TTL:PT1H
BEGIN:VEVENT
UID:69e790e6a81dd476da14f882
SUMMARY:Booty Bootcamp 🍑
DTSTAMP:20260420T135500Z
DTSTART:20260602T160000
DESCRIPTION:Let's meet at the bandstand\, as denoted by the pin. Please bri
	ng water. 
URL:https://bua.fit/class/8xA8WcdcwmlH
GEO:51.53616098834735;-0.03905783068847368
LOCATION:Victoria Park\\\, London\\\, E3 5TB
CATEGORIES:Cardio
ORGANIZER;CN=Bua Fit:mailto:info@buafit.com
DURATION:PT45M
END:VEVENT
END:VCALENDAR
