BEGIN:VCALENDAR
VERSION:2.0
CALSCALE:GREGORIAN
PRODID:adamgibbons/ics
METHOD:PUBLISH
X-PUBLISHED-TTL:PT1H
BEGIN:VEVENT
UID:69e7195c3025f166d8081902
SUMMARY:💣 War On Your Core 💣
DTSTAMP:20260420T135500Z
DTSTART:20260602T073000
DESCRIPTION:Meet by the bandstand
URL:https://bua.fit/class/9YKVfCY3jLM0
GEO:51.45799989999999;-0.1493072
LOCATION:Clapham Common Bandstand\\\, London\\\, SW4 9DE
CATEGORIES:Core
ORGANIZER;CN=Bua Fit:mailto:info@buafit.com
DURATION:PT45M
END:VEVENT
END:VCALENDAR
