BEGIN:VCALENDAR
VERSION:2.0
CALSCALE:GREGORIAN
PRODID:adamgibbons/ics
METHOD:PUBLISH
X-PUBLISHED-TTL:PT1H
BEGIN:VEVENT
UID:69e324dc86e8ee56e128a9f1
SUMMARY:BUA Yoga: Primal Vinyasa 🌿🤸🏼‍♂️
DTSTAMP:20260408T175800Z
DTSTART:20260530T073000
DESCRIPTION:If you have a mat great but not crucial 👍
URL:https://bua.fit/class/AJrtIE7zQH57
LOCATION:Online
CATEGORIES:Yoga
ORGANIZER;CN=Bua Fit:mailto:info@buafit.com
DURATION:PT45M
END:VEVENT
END:VCALENDAR
