BEGIN:VCALENDAR
VERSION:2.0
CALSCALE:GREGORIAN
PRODID:adamgibbons/ics
METHOD:PUBLISH
X-PUBLISHED-TTL:PT1H
BEGIN:VEVENT
UID:69ec898c2afec00d44e24d15
SUMMARY:Bollywood dance for ladies 
DTSTAMP:20260420T135500Z
DTSTART:20260606T103000
DESCRIPTION:Downstairs hall 
URL:https://bua.fit/class/AMbEhuroKxh6
GEO:51.5569838;0.1068172
LOCATION:Mayespark Primary School\\\, Ilford\\\, IG3 9PX
CATEGORIES:Dance Fit
ORGANIZER;CN=Bua Fit:mailto:info@buafit.com
DURATION:PT60M
END:VEVENT
END:VCALENDAR
