BEGIN:VCALENDAR
VERSION:2.0
CALSCALE:GREGORIAN
PRODID:adamgibbons/ics
METHOD:PUBLISH
X-PUBLISHED-TTL:PT1H
BEGIN:VEVENT
UID:69b7b16c956fd31fba70518a
SUMMARY:Calorie Crusher :: London's Baddest Bootcamp
DTSTAMP:20260420T135500Z
DTSTART:20260427T073000
DESCRIPTION:Meet next to the lido. You'll need water. Possibly gallons.
URL:https://bua.fit/class/AZndbf2v1qU5
GEO:51.4505999;-0.1069172
LOCATION:Brockwell Park\\\, Herne Hill\\\, SE24 9BJ
CATEGORIES:HIIT
ORGANIZER;CN=Bua Fit:mailto:info@buafit.com
DURATION:PT60M
END:VEVENT
END:VCALENDAR
