BEGIN:VCALENDAR
VERSION:2.0
CALSCALE:GREGORIAN
PRODID:adamgibbons/ics
METHOD:PUBLISH
X-PUBLISHED-TTL:PT1H
BEGIN:VEVENT
UID:69d891d5bde16a6a094aaa6c
SUMMARY:Mañana Breathwork
DTSTAMP:20260420T135500Z
DTSTART:20260522T070000
DESCRIPTION:Our morning routine is key to setting up how our day is going t
	o pan out\, when we first wake up we are very susceptible to whatever we a
	llow to enter our field of consciousness\; this tends to set the tone for 
	the day that we are going to have. Or at least our perception of it!\n\nBr
	eathwork helps to alkalise the body\, remove toxins\, aid physical recover
	y\, provide mental clarity & focus amongst many other things!\n\nIf you wi
	sh to start off your day in a high vibe\, fun & empowered way\, join us fo
	r a morning breathwork routine to kick off your day sharper than a double 
	espresso!\n\n
URL:https://bua.fit/class/BG7GsDGMEfbW
LOCATION:Online
CATEGORIES:Breathwork
ORGANIZER;CN=Bua Fit:mailto:info@buafit.com
DURATION:PT30M
END:VEVENT
END:VCALENDAR
