BEGIN:VCALENDAR
VERSION:2.0
CALSCALE:GREGORIAN
PRODID:adamgibbons/ics
METHOD:PUBLISH
X-PUBLISHED-TTL:PT1H
BEGIN:VEVENT
UID:69e863d490e7bd2a7b6b8e28
SUMMARY:The Circuit Circus 🏃🏼🏃🏼‍♀‍
DTSTAMP:20260420T135500Z
DTSTART:20260603T070000
DESCRIPTION:Meet near the Skate Park at the pin drop
URL:https://bua.fit/class/BgXnUyCrH38N
GEO:51.46101083338291;-0.14317020577393258
LOCATION:Clapham Common\\\, London\\\, SW4 9DE
CATEGORIES:HIIT
ORGANIZER;CN=Bua Fit:mailto:info@buafit.com
DURATION:PT60M
END:VEVENT
END:VCALENDAR
