BEGIN:VCALENDAR
VERSION:2.0
CALSCALE:GREGORIAN
PRODID:adamgibbons/ics
METHOD:PUBLISH
X-PUBLISHED-TTL:PT1H
BEGIN:VEVENT
UID:69e88e057b14b061172ecebd
SUMMARY:Bua Yoga Flow Mojo 🌿
DTSTAMP:20260420T135500Z
DTSTART:20260603T100000
DESCRIPTION:Meet by the bandstand  and bring a mat
URL:https://bua.fit/class/BvwCh8QYB2eF
GEO:51.457956573037166;-0.14919599629517055
LOCATION:Clapham Common\\\, London\\\, SW4 9DE
CATEGORIES:Yoga
ORGANIZER;CN=Bua Fit:mailto:info@buafit.com
DURATION:PT60M
END:VEVENT
END:VCALENDAR
