BEGIN:VCALENDAR
VERSION:2.0
CALSCALE:GREGORIAN
PRODID:adamgibbons/ics
METHOD:PUBLISH
X-PUBLISHED-TTL:PT1H
BEGIN:VEVENT
UID:69e499842e487875078f3355
SUMMARY:BUA Yoga Flow Mojo 🌿
DTSTAMP:20260408T175800Z
DTSTART:20260531T100000
DESCRIPTION:Meet by the bandstand  and bring a mat
URL:https://bua.fit/class/BwmgnGEEHaRR
GEO:51.4586117;-0.1493462
LOCATION:Clapham Common\\\, London\\\, SW4 9DE
CATEGORIES:Yoga
ORGANIZER;CN=Bua Fit:mailto:info@buafit.com
DURATION:PT60M
END:VEVENT
END:VCALENDAR
