BEGIN:VCALENDAR
VERSION:2.0
CALSCALE:GREGORIAN
PRODID:adamgibbons/ics
METHOD:PUBLISH
X-PUBLISHED-TTL:PT1H
BEGIN:VEVENT
UID:69e7125410e3825fc35b3d1d
SUMMARY:Booty Burn Bootcamp 🍑
DTSTAMP:20260420T135500Z
DTSTART:20260602T070000
DESCRIPTION:Meet by the climbing rock and bring water 💦
URL:https://bua.fit/class/CHPBR0rWxrCp
GEO:51.53352109999999;-0.0846923
LOCATION:Shoreditch Park\\\, New North Road\\\, N1 5EP
CATEGORIES:Bootcamp
ORGANIZER;CN=Bua Fit:mailto:info@buafit.com
DURATION:PT60M
END:VEVENT
END:VCALENDAR
