BEGIN:VCALENDAR
VERSION:2.0
CALSCALE:GREGORIAN
PRODID:adamgibbons/ics
METHOD:PUBLISH
X-PUBLISHED-TTL:PT1H
BEGIN:VEVENT
UID:69eb542c0c69df1b5cf7b802
SUMMARY:Yoga Flow Mojo 🌾🧘
DTSTAMP:20260420T135500Z
DTSTART:20260605T123000
DESCRIPTION:Meet at the bandstand. Please bring your mat and water.
URL:https://bua.fit/class/CNBQzNxQfcnI
GEO:51.4586117;-0.1493462
LOCATION:Clapham Common\\\, London\\\, SW4 9DE
CATEGORIES:Yoga
ORGANIZER;CN=Bua Fit:mailto:info@buafit.com
DURATION:PT60M
END:VEVENT
END:VCALENDAR
