BEGIN:VCALENDAR
VERSION:2.0
CALSCALE:GREGORIAN
PRODID:adamgibbons/ics
METHOD:PUBLISH
X-PUBLISHED-TTL:PT1H
BEGIN:VEVENT
UID:69eb3105eeef3009472eaa1e
SUMMARY:The Online Circuit Circus 🏃🏼🏃🏼‍♀‍
DTSTAMP:20260420T135500Z
DTSTART:20260605T100000
DESCRIPTION:It’s time to smash it online 👩‍💻🧑🏽‍💻 💥
URL:https://bua.fit/class/DqPSTh6fg1R4
LOCATION:Online
CATEGORIES:HIIT,Bodyweight
ORGANIZER;CN=Bua Fit:mailto:info@buafit.com
DURATION:PT40M
END:VEVENT
END:VCALENDAR
