BEGIN:VCALENDAR
VERSION:2.0
CALSCALE:GREGORIAN
PRODID:adamgibbons/ics
METHOD:PUBLISH
X-PUBLISHED-TTL:PT1H
BEGIN:VEVENT
UID:69d69795018b384f26c3564a
SUMMARY:Bootcamp
DTSTAMP:20260420T135500Z
DTSTART:20260520T190000
DESCRIPTION:It’s time to smash it💥\n\nMeet at the pin and bring water 🤝
URL:https://bua.fit/class/E9fpZTpI0WAn
LOCATION:Online
CATEGORIES:Bootcamp
ORGANIZER;CN=Bua Fit:mailto:info@buafit.com
DURATION:PT60M
END:VEVENT
END:VCALENDAR
