BEGIN:VCALENDAR
VERSION:2.0
CALSCALE:GREGORIAN
PRODID:adamgibbons/ics
METHOD:PUBLISH
X-PUBLISHED-TTL:PT1H
BEGIN:VEVENT
UID:69df619447f86e11cadf93a2
SUMMARY:Core 20
DTSTAMP:20260420T135500Z
DTSTART:20260527T110000
DESCRIPTION:Simple 15–20 minute core class routine suitable for all levels.
	 It targets the abdominals\, obliques\, lower back\, and stabilising muscl
	es.
URL:https://bua.fit/class/EaFl0oUa3YuY
LOCATION:Online
CATEGORIES:Core
ORGANIZER;CN=Bua Fit:mailto:info@buafit.com
DURATION:PT100M
END:VEVENT
END:VCALENDAR
