BEGIN:VCALENDAR
VERSION:2.0
CALSCALE:GREGORIAN
PRODID:adamgibbons/ics
METHOD:PUBLISH
X-PUBLISHED-TTL:PT1H
BEGIN:VEVENT
UID:69e5c7dc53847158d5ac8eae
SUMMARY:BUA Yoga: Primal Vinyasa 🌿
DTSTAMP:20260420T135500Z
DTSTART:20260601T073000
DESCRIPTION:Meet at the bandstand and bring a mat
URL:https://bua.fit/class/EaggB9MiETLw
GEO:51.45799989999999;-0.1493072
LOCATION:Clapham Common Bandstand\\\, London\\\, SW4 9DE
CATEGORIES:Yoga
ORGANIZER;CN=Bua Fit:mailto:info@buafit.com
DURATION:PT60M
END:VEVENT
END:VCALENDAR
