BEGIN:VCALENDAR
VERSION:2.0
CALSCALE:GREGORIAN
PRODID:adamgibbons/ics
METHOD:PUBLISH
X-PUBLISHED-TTL:PT1H
BEGIN:VEVENT
UID:69e9c3652885294320b0bf54
SUMMARY:Ultimate Bodyweight Bootcamp 👊
DTSTAMP:20260420T135500Z
DTSTART:20260604T080000
DESCRIPTION:Everything you need is inside you. Ditch dumbbells and deadlift
	s 🏋️‍♂️ and use your own body as resistance. Be your very own Mr Motivato
	r fat incinerator. Every week is brand spanking new. Everyone welcome. \n\
	nWe cool down with stretches and breathing exercises. You’ll walk away fro
	m the group ready to take on the rest of your day feeling strong and accom
	plished. 💪
URL:https://bua.fit/class/FYDqxmTVxCqv
LOCATION:Online
CATEGORIES:HIIT,Bodyweight
ORGANIZER;CN=Bua Fit:mailto:info@buafit.com
DURATION:PT60M
END:VEVENT
END:VCALENDAR
