BEGIN:VCALENDAR
VERSION:2.0
CALSCALE:GREGORIAN
PRODID:adamgibbons/ics
METHOD:PUBLISH
X-PUBLISHED-TTL:PT1H
BEGIN:VEVENT
UID:69e6547cca6236306a0842c7
SUMMARY:Run Like You Stole It 🏃🏼
DTSTAMP:20260420T135500Z
DTSTART:20260601T173000
DESCRIPTION:Meet by the climbing wall as denoted by the pin and bring water
	.
URL:https://bua.fit/class/FYquxasaidHW
GEO:51.53360185448723;-0.08470302883605729
LOCATION:Shoreditch Park\\\, New North Road\\\, N1 5EP
CATEGORIES:Cardio
ORGANIZER;CN=Bua Fit:mailto:info@buafit.com
DURATION:PT60M
END:VEVENT
END:VCALENDAR
