BEGIN:VCALENDAR
VERSION:2.0
CALSCALE:GREGORIAN
PRODID:adamgibbons/ics
METHOD:PUBLISH
X-PUBLISHED-TTL:PT1H
BEGIN:VEVENT
UID:69eb542c9a37714705c15858
SUMMARY:Glamour Burn Bootcamp 💪
DTSTAMP:20260420T135500Z
DTSTART:20260605T123000
DESCRIPTION:Meet at the pin drop
URL:https://bua.fit/class/FfNHlPfduBGD
GEO:51.50911844495983;-0.15032939073790885
LOCATION:Mount Street Gardens\\\, Mayfair\\\, W1K 2TH
CATEGORIES:Bootcamp,HIIT
ORGANIZER;CN=Bua Fit:mailto:info@buafit.com
DURATION:PT45M
END:VEVENT
END:VCALENDAR
