BEGIN:VCALENDAR
VERSION:2.0
CALSCALE:GREGORIAN
PRODID:adamgibbons/ics
METHOD:PUBLISH
X-PUBLISHED-TTL:PT1H
BEGIN:VEVENT
UID:69dfbcfd6c9d882c6d0ae9a2
SUMMARY:KAPOW💥:  Badass Bua Shadow Boxing 🥊😃
DTSTAMP:20260420T135500Z
DTSTART:20260527T173000
DESCRIPTION:Meet online and bring H20💦
URL:https://bua.fit/class/GAkUloSbWKav
LOCATION:Online
CATEGORIES:Boxing
ORGANIZER;CN=Bua Fit:mailto:info@buafit.com
DURATION:PT45M
END:VEVENT
END:VCALENDAR
