BEGIN:VCALENDAR
VERSION:2.0
CALSCALE:GREGORIAN
PRODID:adamgibbons/ics
METHOD:PUBLISH
X-PUBLISHED-TTL:PT1H
BEGIN:VEVENT
UID:69b691250398545a2f6a6f61
SUMMARY:Hackney Bua Boxing 🥊
DTSTAMP:20260420T135500Z
DTSTART:20260426T110000
DESCRIPTION:Meet at the bandstand
URL:https://bua.fit/class/H0UZvlKOMM02
GEO:51.53734559999999;-0.0366997
LOCATION:Victoria Park\\\, London
CATEGORIES:Boxing
ORGANIZER;CN=Bua Fit:mailto:info@buafit.com
DURATION:PT60M
END:VEVENT
END:VCALENDAR
