BEGIN:VCALENDAR
VERSION:2.0
CALSCALE:GREGORIAN
PRODID:adamgibbons/ics
METHOD:PUBLISH
X-PUBLISHED-TTL:PT1H
BEGIN:VEVENT
UID:69e9c366cac936030ade34f3
SUMMARY:Burn Baby Burn
DTSTAMP:20260420T135500Z
DTSTART:20260604T080000
DESCRIPTION:Please bring water!
URL:https://bua.fit/class/HBcuaAlA7sao
GEO:51.5244186;-0.1218013
LOCATION:Brunswick Square Gardens\\\, Bloomsbury\\\, WC1N 1AX
CATEGORIES:HIIT
ORGANIZER;CN=Bua Fit:mailto:info@buafit.com
DURATION:PT60M
END:VEVENT
END:VCALENDAR
